BEGIN:VCALENDAR
VERSION:2.0
PRODID:-//Tukios.com/
BEGIN:VEVENT
UID:faaf2416-94e5-4d5c-bbd5-c6c384ee6ec7@www.russellcolonialfuneralhome.com
DTSTAMP:20260420T231002Z
DTSTART:20260425T160000Z
DTEND:20260425T190000Z
SUMMARY:Visitation
DESCRIPTION:
URL:https://www.russellcolonialfuneralhome.com/obituaries/stephen-carter
LOCATION: 530 E Springfield Rd  St Clair MO 63077
GEO:38.3435178;-90.9813947
END:VEVENT
END:VCALENDAR