BEGIN:VCALENDAR
VERSION:2.0
PRODID:-//Tukios.com/
BEGIN:VEVENT
UID:587a84f5-7a6c-4cc9-88f1-bb3c18dca85e@www.russellcolonialfuneralhome.com
DTSTAMP:20260420T211945Z
DTSTART:20260422T193000Z
DTEND:20260422T203000Z
SUMMARY:Burial
DESCRIPTION:
URL:https://www.russellcolonialfuneralhome.com/obituaries/clifford-watson
LOCATION:Martin Weirich Cemetery Red Oak Rd.  Gerald MO 63037
GEO:38.3384033;-91.3065913
END:VEVENT
END:VCALENDAR