BEGIN:VCALENDAR
VERSION:2.0
PRODID:-//Tukios.com/
BEGIN:VEVENT
UID:97d8cfaf-0493-4b89-9853-387f96e139f1@www.russellcolonialfuneralhome.com
DTSTAMP:20260420T212257Z
DTSTART:20260422T180000Z
DTEND:20260422T190000Z
SUMMARY:Funeral Service
DESCRIPTION:
URL:https://www.russellcolonialfuneralhome.com/obituaries/clifford-watson
LOCATION: 530 E Springfield Rd  St Clair MO 63077
GEO:38.3435178;-90.9813947
END:VEVENT
END:VCALENDAR