BEGIN:VCALENDAR
VERSION:2.0
PRODID:-//Tukios.com/
BEGIN:VEVENT
UID:5f386bb9-25d9-4f70-b054-6443dad486a7@www.russellcolonialfuneralhome.com
DTSTAMP:20260420T211613Z
DTSTART:20260422T160000Z
DTEND:20260422T180000Z
SUMMARY:Visitation
DESCRIPTION:
URL:https://www.russellcolonialfuneralhome.com/obituaries/clifford-watson
LOCATION: 530 E Springfield Rd  St Clair MO 63077
GEO:38.3435178;-90.9813947
END:VEVENT
END:VCALENDAR